BEGIN:VCALENDAR
VERSION:2.0
PRODID:-//Hudson Valley Free Flyers - ECPv6.15.20//NONSGML v1.0//EN
CALSCALE:GREGORIAN
METHOD:PUBLISH
X-WR-CALNAME:Hudson Valley Free Flyers
X-ORIGINAL-URL:https://hudsonvalleyfreeflyers.org
X-WR-CALDESC:Events for Hudson Valley Free Flyers
REFRESH-INTERVAL;VALUE=DURATION:PT1H
X-Robots-Tag:noindex
X-PUBLISHED-TTL:PT1H
BEGIN:VTIMEZONE
TZID:America/New_York
BEGIN:DAYLIGHT
TZOFFSETFROM:-0500
TZOFFSETTO:-0400
TZNAME:EDT
DTSTART:20200308T070000
END:DAYLIGHT
BEGIN:STANDARD
TZOFFSETFROM:-0400
TZOFFSETTO:-0500
TZNAME:EST
DTSTART:20201101T060000
END:STANDARD
BEGIN:DAYLIGHT
TZOFFSETFROM:-0500
TZOFFSETTO:-0400
TZNAME:EDT
DTSTART:20210314T070000
END:DAYLIGHT
BEGIN:STANDARD
TZOFFSETFROM:-0400
TZOFFSETTO:-0500
TZNAME:EST
DTSTART:20211107T060000
END:STANDARD
BEGIN:DAYLIGHT
TZOFFSETFROM:-0500
TZOFFSETTO:-0400
TZNAME:EDT
DTSTART:20220313T070000
END:DAYLIGHT
BEGIN:STANDARD
TZOFFSETFROM:-0400
TZOFFSETTO:-0500
TZNAME:EST
DTSTART:20221106T060000
END:STANDARD
BEGIN:DAYLIGHT
TZOFFSETFROM:-0500
TZOFFSETTO:-0400
TZNAME:EDT
DTSTART:20230312T070000
END:DAYLIGHT
BEGIN:STANDARD
TZOFFSETFROM:-0400
TZOFFSETTO:-0500
TZNAME:EST
DTSTART:20231105T060000
END:STANDARD
BEGIN:DAYLIGHT
TZOFFSETFROM:-0500
TZOFFSETTO:-0400
TZNAME:EDT
DTSTART:20240310T070000
END:DAYLIGHT
BEGIN:STANDARD
TZOFFSETFROM:-0400
TZOFFSETTO:-0500
TZNAME:EST
DTSTART:20241103T060000
END:STANDARD
BEGIN:DAYLIGHT
TZOFFSETFROM:-0500
TZOFFSETTO:-0400
TZNAME:EDT
DTSTART:20250309T070000
END:DAYLIGHT
BEGIN:STANDARD
TZOFFSETFROM:-0400
TZOFFSETTO:-0500
TZNAME:EST
DTSTART:20251102T060000
END:STANDARD
BEGIN:DAYLIGHT
TZOFFSETFROM:-0500
TZOFFSETTO:-0400
TZNAME:EDT
DTSTART:20260308T070000
END:DAYLIGHT
BEGIN:STANDARD
TZOFFSETFROM:-0400
TZOFFSETTO:-0500
TZNAME:EST
DTSTART:20261101T060000
END:STANDARD
BEGIN:DAYLIGHT
TZOFFSETFROM:-0500
TZOFFSETTO:-0400
TZNAME:EDT
DTSTART:20270314T070000
END:DAYLIGHT
BEGIN:STANDARD
TZOFFSETFROM:-0400
TZOFFSETTO:-0500
TZNAME:EST
DTSTART:20271107T060000
END:STANDARD
END:VTIMEZONE
BEGIN:VEVENT
DTSTART;TZID=America/New_York:20260124T180000
DTEND;TZID=America/New_York:20260124T220000
DTSTAMP:20260423T215316
CREATED:20260108T152628Z
LAST-MODIFIED:20260108T152657Z
UID:3004-1769277600-1769292000@hudsonvalleyfreeflyers.org
SUMMARY:HVFF annual 2025 Holiday Party
DESCRIPTION:Hello Hudson Valley Free flyers and friends! \n\n\n\nThe HVFF annual 2025 Holiday Party and season kickoff is all set and planned. \n\n\n\nWe hope you can attend!!!! \n\n\n\nThe “Third and Company Lakeside” Restaurant on Route 52 in Pine Bush is hosting the Party\, at the base of the Mountain. (The old Cobblestone store) \n\n\n\n3649 NY-52\, Pine Bush\, NY 12566 \n\n\n\nThe DATE is January 24th (Saturday) 6:00 PM – 10:00 PM \n\n\n\nThe cost is $48 / members & guests (kids $15) \n\n\n\nRSVP (ASAP so we can get a head-count to the venue!!!) \n\n\n\nTo Paul Voight via email (flyhighpaul@gmail.com) or text (845-649-6747) \n\n\n\nYou can mail a check….. or Venmo to @Voighter or my email. \n\n\n\nPaul Voight \n\n\n\n5163 Searsville Rd. Pine Bush\, NY\, 12566 \n\n\n\nThe Menu = \n\n\n\nAppetizersCheese BoardHot Hors D’oeuvresVegetarian Spring Rolls\, Sweet Chili Dipping SauceChicken & Cheese QuesadillaSaladsHarvest Field Greens\, Bleu Cheese on SideApple Cider VinaigretteBlue CheeseEntreesPastaBaked ZitiSeafoodShrimp & Andouille Sausage JambalayaPoultryChicken Marsala\, Mushrooms & Caramelized OnionsBeefMeatballsJack Daniels GlazeTomato SauceSide DishesHerb Roasted Potatoes\, White Truffle OilVegetablesGreen Beans & BaconGarlic BroccoliKids MealsChicken Strips & Fries    $15 12 & underDessertsSHEET CAKEBeveragesSelf-Serve Water Station\, Ice Water & Lemon WaterBeer & Wine $ Soda (soda unlimited)Individual Tab by GuestBeverage StationsLacas Coffee & Tea Station
URL:https://hudsonvalleyfreeflyers.org/event/hvff-annual-2025-holiday-party/
CATEGORIES:Meeting,Social
END:VEVENT
BEGIN:VEVENT
DTSTART;TZID=America/New_York:20250930T200000
DTEND;TZID=America/New_York:20250930T210000
DTSTAMP:20260423T215316
CREATED:20250930T143009Z
LAST-MODIFIED:20250930T143248Z
UID:2909-1759262400-1759266000@hudsonvalleyfreeflyers.org
SUMMARY:HVFF September Meeting
DESCRIPTION:Our September meeting will be via Zoom.
URL:https://hudsonvalleyfreeflyers.org/event/hvff-september-meeting/
CATEGORIES:Meeting,Social
END:VEVENT
BEGIN:VEVENT
DTSTART;TZID=America/New_York:20250826T200000
DTEND;TZID=America/New_York:20250826T213000
DTSTAMP:20260423T215316
CREATED:20250826T002918Z
LAST-MODIFIED:20250826T003009Z
UID:2904-1756238400-1756243800@hudsonvalleyfreeflyers.org
SUMMARY:HVFF August Meeting
DESCRIPTION:Our next meeting will be via Zoom. Please see your email inbox or our FaceBook group for the link.
URL:https://hudsonvalleyfreeflyers.org/event/hvff-august-meeting/
CATEGORIES:Meeting,Social
ORGANIZER;CN="Wayne Neckles":MAILTO:wayneneckles@yahoo.com
END:VEVENT
BEGIN:VEVENT
DTSTART;TZID=America/New_York:20250722T200000
DTEND;TZID=America/New_York:20250722T210000
DTSTAMP:20260423T215316
CREATED:20250721T124007Z
LAST-MODIFIED:20250721T124013Z
UID:2894-1753214400-1753218000@hudsonvalleyfreeflyers.org
SUMMARY:HVFF July Meeting
DESCRIPTION:Our monthly meeting will be via Zoom; we will continue to discuss development of Hosner Mountain into an active flying site\, along with the regular club agenda.
URL:https://hudsonvalleyfreeflyers.org/event/hvff-july-meeting/
CATEGORIES:Meeting,Social
END:VEVENT
BEGIN:VEVENT
DTSTART;TZID=America/New_York:20250630T200000
DTEND;TZID=America/New_York:20250630T210000
DTSTAMP:20260423T215316
CREATED:20250630T215608Z
LAST-MODIFIED:20250630T215615Z
UID:2890-1751313600-1751317200@hudsonvalleyfreeflyers.org
SUMMARY:HVFF June Meeting
DESCRIPTION:The HVFF June meeting will be virtual via Zoom.
URL:https://hudsonvalleyfreeflyers.org/event/hvff-june-meeting/
CATEGORIES:Meeting,Social
ORGANIZER;CN="Wayne Neckles":MAILTO:wayneneckles@yahoo.com
END:VEVENT
BEGIN:VEVENT
DTSTART;TZID=America/New_York:20250528T200000
DTEND;TZID=America/New_York:20250528T210000
DTSTAMP:20260423T215316
CREATED:20250527T222042Z
LAST-MODIFIED:20250527T222047Z
UID:2886-1748462400-1748466000@hudsonvalleyfreeflyers.org
SUMMARY:HVFF May Meeting
DESCRIPTION:This month’s meeting will be via Zoom. We will discuss the recent trail expedition at Hosner Mountain\, ongoing site development efforts\, and the normal club agenda.
URL:https://hudsonvalleyfreeflyers.org/event/hvff-may-meeting/
CATEGORIES:Meeting,Site Development,Social
END:VEVENT
BEGIN:VEVENT
DTSTART;TZID=America/New_York:20250426T190000
DTEND;TZID=America/New_York:20250426T203000
DTSTAMP:20260423T215316
CREATED:20250424T001918Z
LAST-MODIFIED:20250424T001926Z
UID:2877-1745694000-1745699400@hudsonvalleyfreeflyers.org
SUMMARY:HVFF April Meeting
DESCRIPTION:Our April meeting will be via the normal Zoom link. We will discuss the recent trail expedition at Hosner Mountain and ongoing site development efforts\, along with the usual club topics.
URL:https://hudsonvalleyfreeflyers.org/event/hvff-april-meeting/
CATEGORIES:Meeting,Social
ATTACH;FMTTYPE=image/jpeg:https://hudsonvalleyfreeflyers.org/wp-content/uploads/2025/04/2025-04-19-Hosner-Mountain-hike-DSC02451-develop-4k.jpg
END:VEVENT
BEGIN:VEVENT
DTSTART;TZID=America/New_York:20250329T190000
DTEND;TZID=America/New_York:20250329T203000
DTSTAMP:20260423T215316
CREATED:20250326T033533Z
LAST-MODIFIED:20250326T033542Z
UID:2859-1743274800-1743280200@hudsonvalleyfreeflyers.org
SUMMARY:HVFF March Meeting
DESCRIPTION:Our March meeting will be Zoom only.
URL:https://hudsonvalleyfreeflyers.org/event/hvff-march-meeting-2/
CATEGORIES:Meeting,Social
END:VEVENT
BEGIN:VEVENT
DTSTART;TZID=America/New_York:20250201T180000
DTEND;TZID=America/New_York:20250201T210000
DTSTAMP:20260423T215316
CREATED:20250128T232553Z
LAST-MODIFIED:20250128T235352Z
UID:2816-1738432800-1738443600@hudsonvalleyfreeflyers.org
SUMMARY:HVFF 2025 Kickoff
DESCRIPTION:Our get together to start off 2025!
URL:https://hudsonvalleyfreeflyers.org/event/hvff-2025-kickoff/
LOCATION:Paper Mill Restaurant\, 7400 US-209\, Napanoch\, NY\, 12458\, United States
CATEGORIES:Meeting,Social
ORGANIZER;CN="Wayne Neckles":MAILTO:wayneneckles@yahoo.com
END:VEVENT
BEGIN:VEVENT
DTSTART;TZID=America/New_York:20241214T183000
DTEND;TZID=America/New_York:20241214T203000
DTSTAMP:20260423T215316
CREATED:20241212T004129Z
LAST-MODIFIED:20241212T004134Z
UID:2803-1734201000-1734208200@hudsonvalleyfreeflyers.org
SUMMARY:HVFF December Meeting
DESCRIPTION:
URL:https://hudsonvalleyfreeflyers.org/event/hvff-december-meeting/
LOCATION:Paper Mill Restaurant\, 7400 US-209\, Napanoch\, NY\, 12458\, United States
CATEGORIES:Meeting,Social
END:VEVENT
BEGIN:VEVENT
DTSTART;TZID=America/New_York:20241026T183000
DTEND;TZID=America/New_York:20241026T203000
DTSTAMP:20260423T215316
CREATED:20241026T143655Z
LAST-MODIFIED:20241026T143705Z
UID:2788-1729967400-1729974600@hudsonvalleyfreeflyers.org
SUMMARY:HVFF Meeting - October 2024
DESCRIPTION:Our October meeting will be held via Zoom. The meeting starts at 7pm\, with officers meeting at 6:30pm.
URL:https://hudsonvalleyfreeflyers.org/event/hvff-meeting-october-2024/
CATEGORIES:Meeting,Social
END:VEVENT
BEGIN:VEVENT
DTSTART;TZID=America/New_York:20240928T183000
DTEND;TZID=America/New_York:20240928T203000
DTSTAMP:20260423T215316
CREATED:20240924T231719Z
LAST-MODIFIED:20240924T231801Z
UID:2783-1727548200-1727555400@hudsonvalleyfreeflyers.org
SUMMARY:HVFF Meeting - September 2024
DESCRIPTION:The next club meeting will be at The Paper Mill Restaurant on Saturday\, September 28th.
URL:https://hudsonvalleyfreeflyers.org/event/hvff-meeting-september-2024/
LOCATION:Paper Mill Restaurant\, 7400 US-209\, Napanoch\, NY\, 12458\, United States
CATEGORIES:Meeting,Social
END:VEVENT
BEGIN:VEVENT
DTSTART;TZID=America/New_York:20240831T080000
DTEND;TZID=America/New_York:20240831T220000
DTSTAMP:20260423T215316
CREATED:20240822T001828Z
LAST-MODIFIED:20240822T001836Z
UID:2778-1725091200-1725141600@hudsonvalleyfreeflyers.org
SUMMARY:Brace 50th Anniversary Party
DESCRIPTION:🎉 Labor Day Weekend and the Brace 50th Anniversary Party 🎉 \n\n\n\nThe club at Mount Brace is planning planning for Saturday August 31 as the party day with Sunday Sept 1 as the rain day. We’ll confirm when we get a read on the weather. \n\n\n\nHopefully the weather will work for some flying. Even if there’s no flying it would be cute to get a group together\, drag a few bottles of sparkling cider up to launch\, and toast the mountain! Specific meeting times for going up to launch will be coordinated later. \n\n\n\nFamilies\, friends\, and guests are all welcomed. Please share this invite with your community. \n\n\n\nAnyone who is a current USHPA member with an appropriate rating and a signed waiver would be welcome to fly. Membership dues will be waived. \n\n\n\nThere will be a BBQ dinner starting around 6:30pm. Donations will be requested to offset the cost. \n\n\n\nBring your own beverages (unless someone is feeling flush and wants to contribute a keg of beer!) \n\n\n\nWhen it gets dark we’ll have a bonfire and movies in the outdoor theater including John McNeely’s 16mm footage of Brace\, Ellenville\, Talcott\, etc from back in the day. Bring a lawn chair. \n\n\n\nIf you plan come please let any Brace Mountain officer know directly so we can get a head count for food planning. \n\n\n\nMt. Brace Club (mtbraceclub.com)
URL:https://hudsonvalleyfreeflyers.org/event/brace-50th-anniversary-party/
CATEGORIES:Fly-In,Social
END:VEVENT
BEGIN:VEVENT
DTSTART;TZID=America/New_York:20240824T190000
DTEND;TZID=America/New_York:20240824T210000
DTSTAMP:20260423T215316
CREATED:20240822T000119Z
LAST-MODIFIED:20240822T000957Z
UID:2773-1724526000-1724533200@hudsonvalleyfreeflyers.org
SUMMARY:HVFF Meeting - August 2024
DESCRIPTION:Our next meeting will be at the Paper Mill Restaurant.
URL:https://hudsonvalleyfreeflyers.org/event/hvff-meeting-august-2024/
LOCATION:Paper Mill Restaurant\, 7400 US-209\, Napanoch\, NY\, 12458\, United States
CATEGORIES:Meeting,Social
END:VEVENT
BEGIN:VEVENT
DTSTART;TZID=America/New_York:20240713T190000
DTEND;TZID=America/New_York:20240713T210000
DTSTAMP:20260423T215316
CREATED:20240712T005055Z
LAST-MODIFIED:20240712T005152Z
UID:2764-1720897200-1720904400@hudsonvalleyfreeflyers.org
SUMMARY:HVFF Meeting - July 2024
DESCRIPTION:The next Hudson Valley Free Flight meeting will take place on Saturday 7/13\, 7 PM at the Paper Mill Restaurant (7400 Route 209\, Napanoch\, NY). The officers’ meeting will be at 6:30 PM.\n\n\n\nThe agenda going forward will continue to be the endeavor to open new flying sites. The club is looking for volunteers to enable pursuing multiple sites in parallel.
URL:https://hudsonvalleyfreeflyers.org/event/hvff-meeting-july-2024/
LOCATION:Paper Mill Restaurant\, 7400 US-209\, Napanoch\, NY\, 12458\, United States
CATEGORIES:Meeting,Social
ATTACH;FMTTYPE=image/jpeg:https://hudsonvalleyfreeflyers.org/wp-content/uploads/2024/07/DSC00153-LAI-Large.jpg
END:VEVENT
BEGIN:VEVENT
DTSTART;TZID=America/New_York:20231209T180000
DTEND;TZID=America/New_York:20231209T200000
DTSTAMP:20260423T215316
CREATED:20231205T232700Z
LAST-MODIFIED:20231205T232751Z
UID:2622-1702144800-1702152000@hudsonvalleyfreeflyers.org
SUMMARY:HVFF Meeting - December 2023
DESCRIPTION:In-person meeting at the Paper Mill Restaurant.If you’d like to have dinner\, plan to be seated at 5 PM.
URL:https://hudsonvalleyfreeflyers.org/event/hvff-meeting-december-2023/
LOCATION:Paper Mill Restaurant\, 7400 US-209\, Napanoch\, NY\, 12458\, United States
CATEGORIES:Meeting,Social
ORGANIZER;CN="Paul Voight":MAILTO:flyhighpaul@gmail.com
END:VEVENT
BEGIN:VEVENT
DTSTART;TZID=America/New_York:20231111T170000
DTEND;TZID=America/New_York:20231111T200000
DTSTAMP:20260423T215316
CREATED:20231109T225354Z
LAST-MODIFIED:20231109T225500Z
UID:2586-1699722000-1699732800@hudsonvalleyfreeflyers.org
SUMMARY:HVFF Meeting - November 2023
DESCRIPTION:Dinner 5-6\, meeting proper starts at 6 PM.
URL:https://hudsonvalleyfreeflyers.org/event/hvff-meeting-november-2023/
LOCATION:Paper Mill Restaurant\, 7400 US-209\, Napanoch\, NY\, 12458\, United States
CATEGORIES:Meeting,Social
END:VEVENT
BEGIN:VEVENT
DTSTART;TZID=America/New_York:20230415T190000
DTEND;TZID=America/New_York:20230415T210000
DTSTAMP:20260423T215316
CREATED:20230409T143711Z
LAST-MODIFIED:20230409T143739Z
UID:2354-1681585200-1681592400@hudsonvalleyfreeflyers.org
SUMMARY:HVFF Meeting - April 2023
DESCRIPTION:We (HVFF) have scheduled a LIVE “in person” club meeting to be held on Saturday…. April 15th\,… at 7:00 PM… at the Paper Mill Restaurant in Napanoch… on Rt. 209……….See ya’ll there !!
URL:https://hudsonvalleyfreeflyers.org/event/hvff-meeting-april-2023/
LOCATION:Paper Mill Restaurant\, 7400 US-209\, Napanoch\, NY\, 12458\, United States
CATEGORIES:Meeting,Social
END:VEVENT
BEGIN:VEVENT
DTSTART;TZID=America/New_York:20230121T173000
DTEND;TZID=America/New_York:20230121T213000
DTSTAMP:20260423T215316
CREATED:20230103T183611Z
LAST-MODIFIED:20230103T184513Z
UID:2277-1674322200-1674336600@hudsonvalleyfreeflyers.org
SUMMARY:Club Holiday Party
DESCRIPTION:Hello HVFF ! \n\n\n\nWe have planned an IN PERSON party to celebrate the holidays (and getting back into the “in person” meeting groove) 😉 \n\n\n\nThe party will be held at The Paper Mill Restaurant in Napanoch NY\, (Used to be the White Wolf where we had many events). \n\n\n\nSAVE THE DATE !!: Saturday…. Jan. 21st 5:30 – ???? \n\n\n\nThere is a multi-option buffet menu with something for everyone\, including two dessert options. Kids can order off the regular menu (burgers/ mac & cheese\, etc) … or pay $14 for the buffet. \n\n\n\nThese are ALWAYS nice parties… and it’s been over two 1/2 years since we have had an in person get-together. \n\n\n\nThe price is $60 / person (Up from three years ago… (but not that much). \n\n\n\nPlease respond if you will be attending (solo or with guest) to me\, via email: flyhighpaul@gmail.com. \n\n\n\nI need to provide a head count for the chef…. \n\n\n\nI hope to see you there. \n\n\n\nPaul Voight
URL:https://hudsonvalleyfreeflyers.org/event/club-holiday-party/
LOCATION:Paper Mill Restaurant\, 7400 US-209\, Napanoch\, NY\, 12458\, United States
CATEGORIES:Social
ATTACH;FMTTYPE=image/jpeg:https://hudsonvalleyfreeflyers.org/wp-content/uploads/2023/01/pexels-sami-anas-5344850.jpg
ORGANIZER;CN="Paul Voight":MAILTO:flyhighpaul@gmail.com
END:VEVENT
BEGIN:VEVENT
DTSTART;TZID=America/New_York:20221215T200000
DTEND;TZID=America/New_York:20221215T210000
DTSTAMP:20260423T215316
CREATED:20221202T212352Z
LAST-MODIFIED:20221202T212624Z
UID:2234-1671134400-1671138000@hudsonvalleyfreeflyers.org
SUMMARY:HVFF Meeting - December 2022
DESCRIPTION:
URL:https://hudsonvalleyfreeflyers.org/event/hvff-meeting-december-2022-2/
CATEGORIES:Meeting,Social
END:VEVENT
BEGIN:VEVENT
DTSTART;TZID=America/New_York:20221026T203000
DTEND;TZID=America/New_York:20221026T213000
DTSTAMP:20260423T215316
CREATED:20220717T171423Z
LAST-MODIFIED:20220717T171427Z
UID:2149-1666816200-1666819800@hudsonvalleyfreeflyers.org
SUMMARY:HVFF Meeting - October 2022
DESCRIPTION:
URL:https://hudsonvalleyfreeflyers.org/event/hvff-meeting-october-2022/
CATEGORIES:Meeting,Social
END:VEVENT
BEGIN:VEVENT
DTSTART;TZID=America/New_York:20220929T203000
DTEND;TZID=America/New_York:20220929T213000
DTSTAMP:20260423T215316
CREATED:20220717T161647Z
LAST-MODIFIED:20220928T184812Z
UID:2147-1664483400-1664487000@hudsonvalleyfreeflyers.org
SUMMARY:HVFF Meeting - September 2022
DESCRIPTION:
URL:https://hudsonvalleyfreeflyers.org/event/hvff-meeting-september-2022/
CATEGORIES:Meeting,Social
END:VEVENT
BEGIN:VEVENT
DTSTART;TZID=America/New_York:20220831T083000
DTEND;TZID=America/New_York:20220831T093000
DTSTAMP:20260423T215316
CREATED:20220717T161521Z
LAST-MODIFIED:20220717T171256Z
UID:2145-1661934600-1661938200@hudsonvalleyfreeflyers.org
SUMMARY:HVFF Meeting - August 2022
DESCRIPTION:
URL:https://hudsonvalleyfreeflyers.org/event/hvff-meeting-august-2022/
CATEGORIES:Meeting,Social
END:VEVENT
BEGIN:VEVENT
DTSTART;TZID=America/New_York:20220714T203000
DTEND;TZID=America/New_York:20220714T210000
DTSTAMP:20260423T215316
CREATED:20220712T225140Z
LAST-MODIFIED:20220712T225305Z
UID:2128-1657830600-1657832400@hudsonvalleyfreeflyers.org
SUMMARY:HVFF Meeting - July 2022
DESCRIPTION:
URL:https://hudsonvalleyfreeflyers.org/event/hvff-meeting-july-2022/
CATEGORIES:Meeting,Social
END:VEVENT
BEGIN:VEVENT
DTSTART;TZID=America/New_York:20211130T200000
DTEND;TZID=America/New_York:20211130T210000
DTSTAMP:20260423T215316
CREATED:20201218T000509Z
LAST-MODIFIED:20211118T031645Z
UID:1624-1638302400-1638306000@hudsonvalleyfreeflyers.org
SUMMARY:HVFF Meeting - Nov 2021
DESCRIPTION:
URL:https://hudsonvalleyfreeflyers.org/event/hvff-meeting-nov-2021/
CATEGORIES:Meeting,Social
END:VEVENT
BEGIN:VEVENT
DTSTART;TZID=America/New_York:20211028T200000
DTEND;TZID=America/New_York:20211028T210000
DTSTAMP:20260423T215316
CREATED:20201218T000337Z
LAST-MODIFIED:20211026T225742Z
UID:1622-1635451200-1635454800@hudsonvalleyfreeflyers.org
SUMMARY:HVFF Meeting - Oct 2021
DESCRIPTION:
URL:https://hudsonvalleyfreeflyers.org/event/hvff-meeting-oct-2021/
CATEGORIES:Meeting,Social
END:VEVENT
BEGIN:VEVENT
DTSTART;TZID=America/New_York:20211004T200000
DTEND;TZID=America/New_York:20211004T210000
DTSTAMP:20260423T215316
CREATED:20201218T000224Z
LAST-MODIFIED:20210930T031100Z
UID:1620-1633377600-1633381200@hudsonvalleyfreeflyers.org
SUMMARY:HVFF Start of Fall Meeting
DESCRIPTION:
URL:https://hudsonvalleyfreeflyers.org/event/hvff-meeting-sep-2021/
CATEGORIES:Meeting,Social
END:VEVENT
BEGIN:VEVENT
DTSTART;TZID=America/New_York:20210825T200000
DTEND;TZID=America/New_York:20210825T210000
DTSTAMP:20260423T215316
CREATED:20201218T000106Z
LAST-MODIFIED:20201218T000110Z
UID:1618-1629921600-1629925200@hudsonvalleyfreeflyers.org
SUMMARY:HVFF Meeting - Aug 2021
DESCRIPTION:
URL:https://hudsonvalleyfreeflyers.org/event/hvff-meeting-aug-2021/
CATEGORIES:Meeting,Social
END:VEVENT
BEGIN:VEVENT
DTSTART;TZID=America/New_York:20210731T190000
DTEND;TZID=America/New_York:20210731T210000
DTSTAMP:20260423T215316
CREATED:20201217T235942Z
LAST-MODIFIED:20210729T232433Z
UID:1616-1627758000-1627765200@hudsonvalleyfreeflyers.org
SUMMARY:HVFF Meeting - Jul 2021
DESCRIPTION:We will have an in-person meeting at the Country Club Grill in Ellenville.
URL:https://hudsonvalleyfreeflyers.org/event/hvff-meeting-jul-2021/
LOCATION:Country Club Grill\, 38 Nevele Rd\, Ellenville\, NY\, 12428\, United States
CATEGORIES:Meeting,Social
END:VEVENT
BEGIN:VEVENT
DTSTART;TZID=America/New_York:20210630T200000
DTEND;TZID=America/New_York:20210630T210000
DTSTAMP:20260423T215316
CREATED:20201217T235820Z
LAST-MODIFIED:20201217T235826Z
UID:1614-1625083200-1625086800@hudsonvalleyfreeflyers.org
SUMMARY:HVFF Meeting - Jun 2021
DESCRIPTION:
URL:https://hudsonvalleyfreeflyers.org/event/hvff-meeting-jun-2021/
CATEGORIES:Meeting,Social
END:VEVENT
END:VCALENDAR